BEGIN:VCALENDAR
VERSION:2.0
PRODID:-//Brahma Kumaris Ulhasnagar    - ECPv4.9.3.2//NONSGML v1.0//EN
CALSCALE:GREGORIAN
METHOD:PUBLISH
X-WR-CALNAME:Brahma Kumaris Ulhasnagar   
X-ORIGINAL-URL:https://ulhasnagar.bk.ooo
X-WR-CALDESC:Events for Brahma Kumaris Ulhasnagar   
BEGIN:VEVENT
DTSTART;TZID=UTC+5.5:20170422T170000
DTEND;TZID=UTC+5.5:20170424T220000
DTSTAMP:20260420T175255
CREATED:20170417T074229Z
LAST-MODIFIED:20170417T074229Z
UID:204-1492880400-1493071200@ulhasnagar.bk.ooo
SUMMARY:Brahma Kumaris Aanand Utsav Mela
DESCRIPTION: \n
URL:https://ulhasnagar.bk.ooo/event/brahma-kumaris-aanand-utsav-mela/
LOCATION:Ratan deep Sports Foundation\, Behind Datta Vada PAv  center\, Ulhasnagar\, Maharashtra\, 421003\, India
END:VEVENT
END:VCALENDAR