BEGIN:VCALENDAR
VERSION:2.0
PRODID:-//Brahma Kumaris Ulhasnagar    - ECPv4.9.3.2//NONSGML v1.0//EN
CALSCALE:GREGORIAN
METHOD:PUBLISH
X-WR-CALNAME:Brahma Kumaris Ulhasnagar   
X-ORIGINAL-URL:https://ulhasnagar.bk.ooo
X-WR-CALDESC:Events for Brahma Kumaris Ulhasnagar   
BEGIN:VEVENT
DTSTART;TZID=UTC+5.5:20170416T080000
DTEND;TZID=UTC+5.5:20170430T110000
DTSTAMP:20260420T175144
CREATED:20170416T090316Z
LAST-MODIFIED:20170416T090924Z
UID:198-1492329600-1493550000@ulhasnagar.bk.ooo
SUMMARY:Brahma Kumaris Summer Camp
DESCRIPTION: \n
URL:https://ulhasnagar.bk.ooo/event/brahma-kumaris-summer-camp/
END:VEVENT
END:VCALENDAR